BEGIN:VCALENDAR
VERSION:2.0
PRODID:-//eventon.com NONSGML v1.0//EN
CALSCALE:GREGORIAN
METHOD:PUBLISH
BEGIN:VEVENT
UID:69e57dfaebb4a
DTSTAMP:20260420T011434Z
DTSTART:20260425
DTEND:20260426
LOCATION:
SUMMARY:Championnat Régional Sport Adapté
DESCRIPTION:Championnat Régional Sport Adapté\nhttps://athle-isere.fr/eve
 nts/championnat-regional-sport-adapte/
URL:https://athle-isere.fr/events/championnat-regional-sport-adapte/
END:VEVENT
END:VCALENDAR